BEGIN:VCALENDAR
VERSION:2.0
PRODID:-//Eventin//Event Calendar//EN
CALSCALE:GREGORIAN
METHOD:PUBLISH
BEGIN:VEVENT
UID:1c6eb2ec7deaa1934154637097eb701a@ardasbaheeyoga.it
SUMMARY:RINASCI NELLA VITALITÀ
DESCRIPTION: \nPercorso trasformativo di Kundalini Yoga per risvegliare la
  forza vitale\nRinasci nella Vitalità è un percorso esperienziale e trasf
 ormativo di Kundalini Yoga dedicato al risveglio della forza vitale come qu
 alità innata dell’essere.\nAttraverso kriya\, meditazioni\, respirazione
  consapevole\, suono e movimento\, questo percorso lavora in profondità su
 l sistema nervoso e sul subconscio\, favorendo il rilascio di tensioni e au
 tomatismi che limitano il libero fluire dell’energia.\nLa pratica accompa
 gna gradualmente a:•⁠ ⁠ripulire il subconscio e ridurre le risposte a
 utomatiche allo stress•⁠ ⁠riconnettersi con la propria essenza profon
 da•⁠ ⁠spostare l’esperienza dal controllo mentale al sentire•⁠ 
 ⁠ritrovare una presenza più autentica nella vita quotidiana•⁠ ⁠raf
 forzare vitalità\, intuizione e stabilità emotiva\nRinasci nella Vitalit
 à non è un percorso per “fare di più”\, ma per liberare ciò che gi
 à sei.\n🕰 Orario: ore 20:30⏳ Durata: 1 ora e mezza / 2 ore circa\nM
 ODALITÀ DI PARTECIPAZIONEIl percorso si svolge:•⁠ ⁠ONLINE•⁠ ⁠I
 N PRESENZA presso Ardas Bahee – Revello\nSe vuoi partecipare o hai domand
 e\, scrivimi in privato\nSat Nam\nPrenotazione obbligatoria:Jai Mantra Sing
 h: 347 7906394
LOCATION:Hybrid
DTSTAMP:20260420T145402Z
DTSTART:20260421T183000Z
DTEND:20260421T203000Z
END:VEVENT
END:VCALENDAR
